BEGIN:VCALENDAR
VERSION:2.0
PRODID:-//jEvents 2.0 for Joomla//EN
CALSCALE:GREGORIAN
METHOD:PUBLISH
BEGIN:VTIMEZONE
TZID:Europe/Paris
BEGIN:STANDARD
DTSTART:20151025T020000
RDATE:20160327T030000
TZOFFSETFROM:+0200
TZOFFSETTO:+0100
TZNAME:Europe/Paris CET
END:STANDARD
BEGIN:STANDARD
DTSTART:20161030T020000
RDATE:20170326T030000
TZOFFSETFROM:+0200
TZOFFSETTO:+0100
TZNAME:Europe/Paris CET
END:STANDARD
BEGIN:STANDARD
DTSTART:20171029T020000
RDATE:20180325T030000
TZOFFSETFROM:+0200
TZOFFSETTO:+0100
TZNAME:Europe/Paris CET
END:STANDARD
BEGIN:STANDARD
DTSTART:20181028T020000
RDATE:20190331T030000
TZOFFSETFROM:+0200
TZOFFSETTO:+0100
TZNAME:Europe/Paris CET
END:STANDARD
BEGIN:STANDARD
DTSTART:20191027T020000
RDATE:20200329T030000
TZOFFSETFROM:+0200
TZOFFSETTO:+0100
TZNAME:Europe/Paris CET
END:STANDARD
BEGIN:STANDARD
DTSTART:20201025T020000
RDATE:20210328T030000
TZOFFSETFROM:+0200
TZOFFSETTO:+0100
TZNAME:Europe/Paris CET
END:STANDARD
BEGIN:STANDARD
DTSTART:20211031T020000
RDATE:20220327T030000
TZOFFSETFROM:+0200
TZOFFSETTO:+0100
TZNAME:Europe/Paris CET
END:STANDARD
BEGIN:STANDARD
DTSTART:20221030T020000
RDATE:20230326T030000
TZOFFSETFROM:+0200
TZOFFSETTO:+0100
TZNAME:Europe/Paris CET
END:STANDARD
BEGIN:STANDARD
DTSTART:20231029T020000
RDATE:20240331T030000
TZOFFSETFROM:+0200
TZOFFSETTO:+0100
TZNAME:Europe/Paris CET
END:STANDARD
BEGIN:DAYLIGHT
DTSTART:20150513T100000
RDATE:20151025T020000
TZOFFSETFROM:+0100
TZOFFSETTO:+0200
TZNAME:Europe/Paris CEST
END:DAYLIGHT
BEGIN:DAYLIGHT
DTSTART:20160327T030000
RDATE:20161030T020000
TZOFFSETFROM:+0100
TZOFFSETTO:+0200
TZNAME:Europe/Paris CEST
END:DAYLIGHT
BEGIN:DAYLIGHT
DTSTART:20170326T030000
RDATE:20171029T020000
TZOFFSETFROM:+0100
TZOFFSETTO:+0200
TZNAME:Europe/Paris CEST
END:DAYLIGHT
BEGIN:DAYLIGHT
DTSTART:20180325T030000
RDATE:20181028T020000
TZOFFSETFROM:+0100
TZOFFSETTO:+0200
TZNAME:Europe/Paris CEST
END:DAYLIGHT
BEGIN:DAYLIGHT
DTSTART:20190331T030000
RDATE:20191027T020000
TZOFFSETFROM:+0100
TZOFFSETTO:+0200
TZNAME:Europe/Paris CEST
END:DAYLIGHT
BEGIN:DAYLIGHT
DTSTART:20200329T030000
RDATE:20201025T020000
TZOFFSETFROM:+0100
TZOFFSETTO:+0200
TZNAME:Europe/Paris CEST
END:DAYLIGHT
BEGIN:DAYLIGHT
DTSTART:20210328T030000
RDATE:20211031T020000
TZOFFSETFROM:+0100
TZOFFSETTO:+0200
TZNAME:Europe/Paris CEST
END:DAYLIGHT
BEGIN:DAYLIGHT
DTSTART:20220327T030000
RDATE:20221030T020000
TZOFFSETFROM:+0100
TZOFFSETTO:+0200
TZNAME:Europe/Paris CEST
END:DAYLIGHT
BEGIN:DAYLIGHT
DTSTART:20230326T030000
RDATE:20231029T020000
TZOFFSETFROM:+0100
TZOFFSETTO:+0200
TZNAME:Europe/Paris CEST
END:DAYLIGHT
END:VTIMEZONE
BEGIN:VEVENT
UID:3091ad461a0a61208af6e6ca2459ae5e
CATEGORIES:Collectif
CREATED:20160208T121928
SUMMARY:Bourges Salon des Arts et Peintures
LOCATION:Bourges
DESCRIPTION:Le SALON ART ET PEINTURE DE BOURGES (FRANCE)\n \n \n23ème Salon des arts et
  peintures de BOURGES\n Au Palais d’Auron\ndu 13  au 22 mai 2016\n   \nCett
 e année est la 23ème édition d’un évènement dont la réputation ne cesse de 
 grandir dans la France entière et à l’étranger.\nSeront présents 126 artist
 es contemporains de tous âges, de tous horizons, et près de 600 œuvres\n
X-ALT-DESC;FMTTYPE=text/html:<p>Le SALON ART ET PEINTURE DE BOURGES (FRANCE)<br /> <br /> <br />23ème Sa
 lon des arts et peintures de BOURGES<br /> Au Palais d’Auron<br />du 13  au
  22 mai 2016<br />   <br />Cette année est la 23ème édition d’un évènement 
 dont la réputation ne cesse de grandir dans la France entière et à l’étrang
 er.<br />Seront présents 126 artistes contemporains de tous âges, de tous h
 orizons, et près de 600 œuvres</p>
CONTACT:http://salon-arts-et-peinture-de-bourges.fr/le-comit-d-organisation/mb.bachelier%40gmail.com.html (http://salon-arts-et-peinture-de-bourges.fr/le-comit-d-organisation/mb.bachelier%40gmail.com.html)
X-EXTRAINFO:Notre Salon cette Année c'est 126 artistes contemporains de tous âges, de t
 ous horizons, et près de 600 œuvres exposées. Elles vont témoigner cette an
 née encore de toutes les tendances de la création picturale française et in
 ternationale, de l'émergence de talents que vous, public, récompensez par l
 e Titre Prix du Public Lions remis en fin de Salon\n Grâce à vous tous, art
 istes, annonceurs, visiteurs, généreux donateurs, nous réalisons notre proj
 et de lutte contre la cécité: tous les bénéfices sont consacrés à l'Ecole d
 es chiens guides d'Aveugles de Coubert pour le parrainage d'un nouveau chie
 n.
DTSTAMP:20260421T090629
DTSTART;TZID=Europe/Paris:20160513T100000
DTEND;TZID=Europe/Paris:20160522T180000
SEQUENCE:0
TRANSP:OPAQUE
END:VEVENT
END:VCALENDAR